BEGIN:VCALENDAR
METHOD:PUBLISH
VERSION:2.0
PRODID:-//hacksw/handcal//NONSGML v1.0//EN
X-WR-TIMEZONE:Australia/Sydney
CALSCALE:GREGORIAN
BEGIN:VEVENT
DTSTART;TZID=Australia/Sydney:20251005T080000
DTEND;TZID=Australia/Sydney:20251005T100000
UID:2QMOPEVAN1FW9DXV7UFH2DUXVJG4P8G5XQEJIOCAJ5X4XOL7TMDSOD81F32MQ5WB
DTSTAMP:20260420T185726
LOCATION:St Ives Showground.
DESCRIPTION:https://nsscc.com.au/autobrunch/
URL;VALUE=URI:http://alfaclubnsw.org.au/events/view.php?id=2QMOPEVAN1FW9DX
 V7UFH2DUXVJG4P8G5XQEJIOCAJ5X4XOL7TMDSOD81F32MQ5WB
SUMMARY:Donnington Auctions AutoBrunch - St Ives
END:VEVENT
END:VCALENDAR
