BEGIN:VCALENDAR
METHOD:PUBLISH
VERSION:2.0
PRODID:-//hacksw/handcal//NONSGML v1.0//EN
X-WR-TIMEZONE:Australia/Sydney
CALSCALE:GREGORIAN
BEGIN:VEVENT
DTSTART;TZID=Australia/Sydney:20260412T080000
DTEND;TZID=Australia/Sydney:20260412T140000
UID:7074415640696AC106E4DBA96689129515917435190696AC106E4DCB62982778
DTSTAMP:20260423T184727
LOCATION:Queanbeyan
DESCRIPTION:Auto Italia Canberra - Home
URL;VALUE=URI:http://alfaclubnsw.org.au/events/view.php?id=7074415640696AC
 106E4DBA96689129515917435190696AC106E4DCB62982778
SUMMARY:Auto Italia 2026
END:VEVENT
END:VCALENDAR
