BEGIN:VCALENDAR
METHOD:PUBLISH
VERSION:2.0
PRODID:-//hacksw/handcal//NONSGML v1.0//EN
X-WR-TIMEZONE:Australia/Sydney
CALSCALE:GREGORIAN
BEGIN:VEVENT
DTSTART;TZID=Australia/Sydney:20250731T193000
DTEND;TZID=Australia/Sydney:20250731T213000
UID:N918X065K4KIYFV0RFMNWK4T8SAEDOLHJV788V5YAFG5W0SKAWIFNRS7Y66K03KT
DTSTAMP:20260423T184839
LOCATION:Canada Bay Club - 8 William Street, Five Dock
DESCRIPTION:Committee Meeting.
URL;VALUE=URI:http://alfaclubnsw.org.au/events/view.php?id=N918X065K4KIYFV
 0RFMNWK4T8SAEDOLHJV788V5YAFG5W0SKAWIFNRS7Y66K03KT
SUMMARY:Committee Meeting
END:VEVENT
END:VCALENDAR
